BEGIN:VCALENDAR
VERSION:2.0
PRODID:-//Abilene Tennis Association (ATA) - ECPv6.15.20//NONSGML v1.0//EN
CALSCALE:GREGORIAN
METHOD:PUBLISH
X-ORIGINAL-URL:https://abilenetennis.org
X-WR-CALDESC:Events for Abilene Tennis Association (ATA)
REFRESH-INTERVAL;VALUE=DURATION:PT1H
X-Robots-Tag:noindex
X-PUBLISHED-TTL:PT1H
BEGIN:VTIMEZONE
TZID:UTC
BEGIN:STANDARD
TZOFFSETFROM:+0000
TZOFFSETTO:+0000
TZNAME:UTC
DTSTART:20250101T000000
END:STANDARD
END:VTIMEZONE
BEGIN:VEVENT
DTSTART;VALUE=DATE:20260221
DTEND;VALUE=DATE:20260223
DTSTAMP:20260423T235012
CREATED:20260113T055555Z
LAST-MODIFIED:20260209T033252Z
UID:1260-1771632000-1771804799@abilenetennis.org
SUMMARY:2026 February UTR - Singles & Doubles
DESCRIPTION:Calling all doubles and singles players Abilene’s February UTR is here!! \n– Singles will be played on Saturday \n– Doubles will be played on Sunday \n  \nThis tournament has two (2) locations including both Abilene High School and Cooper High School. \n\nAbilene High School location: 840 N. Mockingbird Ln.\, Abilene\, TX 79603\nCooper High School location: 3639 Sayles Blvd. Abilene\, TX 79605\n\n  \nExtenuating Circumstances & Match Times: \nConcerning extenuating situations for time-slots/match times\, it is the obligation of each player to ensure they are available for their matches as assigned by the Tournament Director (TD). Requests to have alternate match times will be reviewed and honored at the TD’s discretion based on the tournament schedule and other factors they deem appropriate. \n– Parents & Players – \nWhat a great day for playing tennis. Thank you for participating in our Singles and Doubles matches! \nThe ATA would like remind all players\, parents\, family members\, friends etc. there is absolutely NO COACHING\, NEGATIVE YELLING\, OR CALLING OF LINES OR SCORES. \nAny violation of this etiquette by either a player\, parent\, family member\, friend\, etc. the individual(s) will be asked to leave the match immediately. If a second incident occurs the player will not be allowed to participate in the next UTR. \nATA UTR Player/Spectator/Parent Guide & Rules\nhttps://abilenetennis.org/wp-content/uploads/2023/10/Tournament-Parent-rules-info-Signs.pdf \nThank you as always for participating in the ATA’s UTRs and exhibiting professionalism both on & off the court. \n– Abilene Tennis Association (ATA)
URL:https://abilenetennis.org/event/2026-february-utr-singles-doubles/
LOCATION:Abilene\, TX\, Abilene\, TX\, United States
CATEGORIES:UTR Tournament
ATTACH;FMTTYPE=image/png:https://abilenetennis.org/wp-content/uploads/2025/01/images.png
END:VEVENT
END:VCALENDAR