BEGIN:VCALENDAR
VERSION:2.0
PRODID:-//Abilene Tennis Association (ATA) - ECPv6.15.20//NONSGML v1.0//EN
CALSCALE:GREGORIAN
METHOD:PUBLISH
X-WR-CALNAME:Abilene Tennis Association (ATA)
X-ORIGINAL-URL:https://abilenetennis.org
X-WR-CALDESC:Events for Abilene Tennis Association (ATA)
REFRESH-INTERVAL;VALUE=DURATION:PT1H
X-Robots-Tag:noindex
X-PUBLISHED-TTL:PT1H
BEGIN:VTIMEZONE
TZID:UTC
BEGIN:STANDARD
TZOFFSETFROM:+0000
TZOFFSETTO:+0000
TZNAME:UTC
DTSTART:20230101T000000
END:STANDARD
END:VTIMEZONE
BEGIN:VEVENT
DTSTART;VALUE=DATE:20240629
DTEND;VALUE=DATE:20240701
DTSTAMP:20260425T113352
CREATED:20240523T152039Z
LAST-MODIFIED:20240523T152039Z
UID:980-1719619200-1719791999@abilenetennis.org
SUMMARY:June Singles/Doubles UTR & Adventure Cove
DESCRIPTION:Calling all doubles and singles players Abilene’s June UTR is here!!\n– Singles will be played on Saturday  \n– Doubles will be played on Sunday  \n  \nAddtionally\, ATA is partnering with Adventure Cove water park! Each UTR player will receive 3 admission tickets\, free of charge\, to attend Adventure Cove on Saturday night from 7:30pm-9:30pm. You will receive your Adventure Cove tickets when you check in for the UTR. \n  \nConcerning extenuating situations for time-slots/match times\, it is the obligation of each player to ensure they are available for their matches as assigned by the Tournament Director (TD). Requests to have alternate match times will be reviewed and honored at the TD’s discretion based on the tournament schedule and other factors they deem appropriate. Additionally\, to remain consistent with USTA’s regulation\, there will be no coaching players by coaches\, parents\, family\, friends\, etc. unless it is between the 2nd and 3rd sets.
URL:https://abilenetennis.org/event/june-singles-doubles-utr-adventure-cove/
LOCATION:Rose Park Tennis Center\, 810 Portland Ave\, Abilene\, TX\, 79605\, United States
CATEGORIES:UTR Tournament
ATTACH;FMTTYPE=image/jpeg:https://abilenetennis.org/wp-content/uploads/2022/04/Adventure-Cove.jpg
END:VEVENT
END:VCALENDAR