BEGIN:VCALENDAR
VERSION:2.0
PRODID:-//Abilene Tennis Association (ATA) - ECPv6.15.20//NONSGML v1.0//EN
CALSCALE:GREGORIAN
METHOD:PUBLISH
X-WR-CALNAME:Abilene Tennis Association (ATA)
X-ORIGINAL-URL:https://abilenetennis.org
X-WR-CALDESC:Events for Abilene Tennis Association (ATA)
REFRESH-INTERVAL;VALUE=DURATION:PT1H
X-Robots-Tag:noindex
X-PUBLISHED-TTL:PT1H
BEGIN:VTIMEZONE
TZID:UTC
BEGIN:STANDARD
TZOFFSETFROM:+0000
TZOFFSETTO:+0000
TZNAME:UTC
DTSTART:20250101T000000
END:STANDARD
END:VTIMEZONE
BEGIN:VEVENT
DTSTART;VALUE=DATE:20260724
DTEND;VALUE=DATE:20260726
DTSTAMP:20260423T234715
CREATED:20260114T033505Z
LAST-MODIFIED:20260114T034835Z
UID:1295-1784851200-1785023999@abilenetennis.org
SUMMARY:2026 Wylie High School UTR - Singles & Doubles
DESCRIPTION:*** REGISTRATION LINK TBD *** \nWylie High School will be hosting a UTR tournament July 24th & 25th! Be on the lookout for more details as we draw closer to the event!
URL:https://abilenetennis.org/event/2026-wylie-high-school-utr-singles-doubles/
LOCATION:TX
CATEGORIES:UTR Tournament
ATTACH;FMTTYPE=image/png:https://abilenetennis.org/wp-content/uploads/2025/01/images.png
END:VEVENT
END:VCALENDAR