BEGIN:VCALENDAR
VERSION:2.0
PRODID:-//Abilene Tennis Association (ATA) - ECPv6.15.20//NONSGML v1.0//EN
CALSCALE:GREGORIAN
METHOD:PUBLISH
X-ORIGINAL-URL:https://abilenetennis.org
X-WR-CALDESC:Events for Abilene Tennis Association (ATA)
REFRESH-INTERVAL;VALUE=DURATION:PT1H
X-Robots-Tag:noindex
X-PUBLISHED-TTL:PT1H
BEGIN:VTIMEZONE
TZID:UTC
BEGIN:STANDARD
TZOFFSETFROM:+0000
TZOFFSETTO:+0000
TZNAME:UTC
DTSTART:20240101T000000
END:STANDARD
END:VTIMEZONE
BEGIN:VEVENT
DTSTART;VALUE=DATE:20251004
DTEND;VALUE=DATE:20251006
DTSTAMP:20260424T070336
CREATED:20250126T214645Z
LAST-MODIFIED:20250126T214645Z
UID:1049-1759536000-1759708799@abilenetennis.org
SUMMARY:USTA Level 5 Open: San Angelo | Singles and Doubles - Boys’ and Girls’ 12-18
DESCRIPTION:WELCOME TO THIS LEVEL 5 OPEN (NW & S) USTA TEXAS TOURNAMENT!\nWe’re excited to have you here—let’s make it an unforgettable event with great matches\, sportsmanship\, and new friendships. Play hard and enjoy every moment! \nFor guidelines on acceptable and expected behavior\, please follow these links:\n FOR PLAYERS       FOR PARENTS/SPECTATORS \nFriendly reminder: We are a no-exception section\, meaning that late entries are strictly not considered or accepted\, regardless of the circumstances. \nWe value your experience and want to ensure it meets your expectations. If you encountered any issues\, please follow the link to report them. Your feedback helps us improve and enhance the experience for everyone. Thank you!  LINK TO FORMS \nFOLLOW THIS LINK FOR TOURNAMENT DETAILS AND INFORMATION
URL:https://abilenetennis.org/event/usta-level-5-open-san-angelo-singles-and-doubles-boys-and-girls-12-18/
LOCATION:Bentwood Country Club\, 2021 Clubhouse Lane\, San Angelo\, TX\, 76904\, United States
CATEGORIES:Local Tournament,USTA Event
ATTACH;FMTTYPE=image/png:https://abilenetennis.org/wp-content/uploads/2025/01/club-logo.png
ORGANIZER;CN="Bentwood Country Club":MAILTO:bentwoodtennis@cs.com
END:VEVENT
END:VCALENDAR