BEGIN:VCALENDAR
VERSION:2.0
PRODID:-//Abilene Tennis Association (ATA) - ECPv6.15.20//NONSGML v1.0//EN
CALSCALE:GREGORIAN
METHOD:PUBLISH
X-WR-CALNAME:Abilene Tennis Association (ATA)
X-ORIGINAL-URL:https://abilenetennis.org
X-WR-CALDESC:Events for Abilene Tennis Association (ATA)
REFRESH-INTERVAL;VALUE=DURATION:PT1H
X-Robots-Tag:noindex
X-PUBLISHED-TTL:PT1H
BEGIN:VTIMEZONE
TZID:UTC
BEGIN:STANDARD
TZOFFSETFROM:+0000
TZOFFSETTO:+0000
TZNAME:UTC
DTSTART:20230101T000000
END:STANDARD
END:VTIMEZONE
BEGIN:VEVENT
DTSTART;VALUE=DATE:20241214
DTEND;VALUE=DATE:20241216
DTSTAMP:20260423T221008
CREATED:20240829T022359Z
LAST-MODIFIED:20240829T022359Z
UID:987-1734134400-1734307199@abilenetennis.org
SUMMARY:December UTR - Singles & Doubles
DESCRIPTION:Calling all doubles and singles players Abilene’s December UTR is here!! \n– Singles will be played on Saturday\n– Doubles will be played on Sunday \nExtenuating Circumstances & Match Times \nConcerning extenuating situations for time-slots/match times\, it is the obligation of each player to ensure they are available for their matches as assigned by the Tournament Director (TD). Requests to have alternate match times will be reviewed and honored at the TD’s discretion based on the tournament schedule and other factors they deem appropriate. \n– Parents & Players – \nWhat a great day for playing tennis. Thank you for participating in our Singles and Doubles matches! \nThe ATA would like remind all players\, parents\, family members\, friends etc. there is absolutely NO COACHING\, NEGATIVE YELLING\, OR CALLING OF LINES OR SCORES. \nAny violation of this etiquette by either a player\, parent\, family member\, friend\, etc. the individual(s) will be asked to leave the match immediately. If a second incident occurs the player will not be allowed to participate in the next UTR. \nATA UTR Player/Spectator/Parent Guide & Rules \n  \nThank you as always for participating in the ATA’s UTRs and exhibiting professionalism both on & off the court. \n– Abilene Tennis Association (ATA)
URL:https://abilenetennis.org/event/december-utr-singles-doubles-3/
LOCATION:Rose Park Tennis Center\, 810 Portland Ave\, Abilene\, TX\, 79605\, United States
CATEGORIES:Local Tournament,UTR Tournament
ATTACH;FMTTYPE=image/png:https://abilenetennis.org/wp-content/uploads/2022/01/UTR-Icon.png
END:VEVENT
BEGIN:VEVENT
DTSTART;VALUE=DATE:20241019
DTEND;VALUE=DATE:20241021
DTSTAMP:20260423T221008
CREATED:20240829T021852Z
LAST-MODIFIED:20240829T021852Z
UID:985-1729296000-1729468799@abilenetennis.org
SUMMARY:October UTR - Singles & Doubles
DESCRIPTION:Calling all doubles and singles players Abilene’s October UTR is here!! \n– Singles will be played on Saturday\n– Doubles will be played on Sunday \nExtenuating Circumstances & Match Times \nConcerning extenuating situations for time-slots/match times\, it is the obligation of each player to ensure they are available for their matches as assigned by the Tournament Director (TD). Requests to have alternate match times will be reviewed and honored at the TD’s discretion based on the tournament schedule and other factors they deem appropriate. \n– Parents & Players – \nWhat a great day for playing tennis. Thank you for participating in our Singles and Doubles matches! \nThe ATA would like remind all players\, parents\, family members\, friends etc. there is absolutely NO COACHING\, NEGATIVE YELLING\, OR CALLING OF LINES OR SCORES. \nAny violation of this etiquette by either a player\, parent\, family member\, friend\, etc. the individual(s) will be asked to leave the match immediately. If a second incident occurs the player will not be allowed to participate in the next UTR. \nATA UTR Player/Spectator/Parent Guide & Rules \n  \nThank you as always for participating in the ATA’s UTRs and exhibiting professionalism both on & off the court. \n– Abilene Tennis Association (ATA)
URL:https://abilenetennis.org/event/october-utr-singles-doubles-3/
LOCATION:Rose Park Tennis Center\, 810 Portland Ave\, Abilene\, TX\, 79605\, United States
CATEGORIES:Local Tournament,UTR Tournament
ATTACH;FMTTYPE=image/png:https://abilenetennis.org/wp-content/uploads/2022/01/UTR-Icon.png
END:VEVENT
BEGIN:VEVENT
DTSTART;VALUE=DATE:20240914
DTEND;VALUE=DATE:20240916
DTSTAMP:20260423T221008
CREATED:20240829T021247Z
LAST-MODIFIED:20240829T022538Z
UID:983-1726272000-1726444799@abilenetennis.org
SUMMARY:September UTR - Singles & Doubles
DESCRIPTION:Calling all doubles and singles players Abilene’s September UTR is here!! \n– Singles will be played on Saturday\n– Doubles will be played on Sunday \nExtenuating Circumstances & Match Times \nConcerning extenuating situations for time-slots/match times\, it is the obligation of each player to ensure they are available for their matches as assigned by the Tournament Director (TD). Requests to have alternate match times will be reviewed and honored at the TD’s discretion based on the tournament schedule and other factors they deem appropriate. \n– Parents & Players – \nWhat a great day for playing tennis. Thank you for participating in our Singles and Doubles matches! \nThe ATA would like remind all players\, parents\, family members\, friends etc. there is absolutely NO COACHING\, NEGATIVE YELLING\, OR CALLING OF LINES OR SCORES. \nAny violation of this etiquette by either a player\, parent\, family member\, friend\, etc. the individual(s) will be asked to leave the match immediately. If a second incident occurs the player will not be allowed to participate in the next UTR. \nATA UTR Player/Spectator/Parent Guide & Rules \n  \nThank you as always for participating in the ATA’s UTRs and exhibiting professionalism both on & off the court. \n– Abilene Tennis Association (ATA)
URL:https://abilenetennis.org/event/september-utr-singles-doubles-2/
LOCATION:Rose Park Tennis Center\, 810 Portland Ave\, Abilene\, TX\, 79605\, United States
CATEGORIES:Local Tournament,UTR Tournament
ATTACH;FMTTYPE=image/png:https://abilenetennis.org/wp-content/uploads/2022/01/UTR-Icon.png
END:VEVENT
BEGIN:VEVENT
DTSTART;VALUE=DATE:20240323
DTEND;VALUE=DATE:20240325
DTSTAMP:20260423T221008
CREATED:20240203T042433Z
LAST-MODIFIED:20240829T020638Z
UID:933-1711152000-1711324799@abilenetennis.org
SUMMARY:Eagle/Cougar March UTR
DESCRIPTION:This UTR is run by the Abilene ISD coaches. If you are in one of the AISD middle schools\, see your coach for a discount. \n\nSingles will be Saturday.\nDoubles on Sunday starting at 12:00.
URL:https://abilenetennis.org/event/eagle-cougar-march-utr/
LOCATION:TX
CATEGORIES:Local Tournament,UTR Tournament
ATTACH;FMTTYPE=image/png:https://abilenetennis.org/wp-content/uploads/2022/01/UTR-Icon.png
END:VEVENT
BEGIN:VEVENT
DTSTART;VALUE=DATE:20240127
DTEND;VALUE=DATE:20240129
DTSTAMP:20260423T221008
CREATED:20240124T143952Z
LAST-MODIFIED:20240203T041937Z
UID:928-1706313600-1706486399@abilenetennis.org
SUMMARY:Eagle/Cougar Winter UTR
DESCRIPTION:This UTR is run by the Abilene ISD coaches. If you are in one of the AISD middle schools\, see your coach for a discount. \n\nSingles will be Saturday.\nDoubles on Sunday starting at 12:00.
URL:https://abilenetennis.org/event/eagle-cougar-winter-utr/
LOCATION:Abilene High School (AHS)\, 2800 N 6th St\, Abilene\, 79603
CATEGORIES:Local Tournament,UTR Tournament
ATTACH;FMTTYPE=image/png:https://abilenetennis.org/wp-content/uploads/2022/01/UTR-Icon.png
END:VEVENT
END:VCALENDAR