BEGIN:VCALENDAR
VERSION:2.0
PRODID:-//Abilene Tennis Association (ATA) - ECPv6.15.20//NONSGML v1.0//EN
CALSCALE:GREGORIAN
METHOD:PUBLISH
X-ORIGINAL-URL:https://abilenetennis.org
X-WR-CALDESC:Events for Abilene Tennis Association (ATA)
REFRESH-INTERVAL;VALUE=DURATION:PT1H
X-Robots-Tag:noindex
X-PUBLISHED-TTL:PT1H
BEGIN:VTIMEZONE
TZID:UTC
BEGIN:STANDARD
TZOFFSETFROM:+0000
TZOFFSETTO:+0000
TZNAME:UTC
DTSTART:20230101T000000
END:STANDARD
END:VTIMEZONE
BEGIN:VEVENT
DTSTART;VALUE=DATE:20240323
DTEND;VALUE=DATE:20240325
DTSTAMP:20260425T152845
CREATED:20240203T042433Z
LAST-MODIFIED:20240829T020638Z
UID:933-1711152000-1711324799@abilenetennis.org
SUMMARY:Eagle/Cougar March UTR
DESCRIPTION:This UTR is run by the Abilene ISD coaches. If you are in one of the AISD middle schools\, see your coach for a discount. \n\nSingles will be Saturday.\nDoubles on Sunday starting at 12:00.
URL:https://abilenetennis.org/event/eagle-cougar-march-utr/
LOCATION:TX
CATEGORIES:Local Tournament,UTR Tournament
ATTACH;FMTTYPE=image/png:https://abilenetennis.org/wp-content/uploads/2022/01/UTR-Icon.png
END:VEVENT
END:VCALENDAR