BEGIN:VCALENDAR
VERSION:2.0
PRODID:-//Abilene Tennis Association (ATA) - ECPv6.15.20//NONSGML v1.0//EN
CALSCALE:GREGORIAN
METHOD:PUBLISH
X-ORIGINAL-URL:https://abilenetennis.org
X-WR-CALDESC:Events for Abilene Tennis Association (ATA)
REFRESH-INTERVAL;VALUE=DURATION:PT1H
X-Robots-Tag:noindex
X-PUBLISHED-TTL:PT1H
BEGIN:VTIMEZONE
TZID:UTC
BEGIN:STANDARD
TZOFFSETFROM:+0000
TZOFFSETTO:+0000
TZNAME:UTC
DTSTART:20240101T000000
END:STANDARD
END:VTIMEZONE
BEGIN:VEVENT
DTSTART;VALUE=DATE:20250412
DTEND;VALUE=DATE:20250413
DTSTAMP:20260424T211904
CREATED:20250126T204924Z
LAST-MODIFIED:20250126T215056Z
UID:1013-1744416000-1744502399@abilenetennis.org
SUMMARY:USTA Level 7: Rose Park Tennis Center | Singles Only - Boys' & Girls' 12-18 Green/Yellow
DESCRIPTION:WELCOME TO THIS LEVEL 7 USTA TEXAS TOURNAMENT!\nWe’re excited to have you here—let’s make it an unforgettable event with great matches\, sportsmanship\, and new friendships. Play hard and enjoy every moment! \nFor guidelines on acceptable and expected behavior\, please follow these links:\n FOR PLAYERS       FOR PARENTS/SPECTATORS \nFriendly reminder: We are a no-exception section\, meaning that late entries are strictly not considered or accepted\, regardless of the circumstances. \nFOLLOW THIS LINK FOR TOURNAMENT DETAILS AND INFORMATION
URL:https://abilenetennis.org/event/level-7-rose-park-tennis-center-singles-only-boys-girls-12-18-green-yellow/
LOCATION:Rose Park Tennis Center\, 810 Portland Ave\, Abilene\, TX\, 79605\, United States
CATEGORIES:ATA Hosted Event,Local Tournament
ATTACH;FMTTYPE=image/png:https://abilenetennis.org/wp-content/uploads/2022/01/Rose-Park-Tennis-Center-Logo.png
ORGANIZER;CN="Rose Park Tennis Center":MAILTO:cwoodstpro@msn.com
END:VEVENT
END:VCALENDAR