BEGIN:VCALENDAR
VERSION:2.0
PRODID:-//Abilene Tennis Association (ATA) - ECPv6.15.20//NONSGML v1.0//EN
CALSCALE:GREGORIAN
METHOD:PUBLISH
X-WR-CALNAME:Abilene Tennis Association (ATA)
X-ORIGINAL-URL:https://abilenetennis.org
X-WR-CALDESC:Events for Abilene Tennis Association (ATA)
REFRESH-INTERVAL;VALUE=DURATION:PT1H
X-Robots-Tag:noindex
X-PUBLISHED-TTL:PT1H
BEGIN:VTIMEZONE
TZID:UTC
BEGIN:STANDARD
TZOFFSETFROM:+0000
TZOFFSETTO:+0000
TZNAME:UTC
DTSTART:20210101T000000
END:STANDARD
END:VTIMEZONE
BEGIN:VEVENT
DTSTART;TZID=UTC:20221220T180000
DTEND;TZID=UTC:20221220T200000
DTSTAMP:20260424T052616
CREATED:20220127T023002Z
LAST-MODIFIED:20220127T023002Z
UID:287-1671559200-1671566400@abilenetennis.org
SUMMARY:ATA Board Meeting (December)
DESCRIPTION:
URL:https://abilenetennis.org/event/ata-board-meeting-december/
LOCATION:Abilene Country Club (ACC)\, 4039 S Treadaway Blvd\, Abilene\, TX\, 79602\, United States
CATEGORIES:ATA Board Meeting
ATTACH;FMTTYPE=image/jpeg:https://abilenetennis.org/wp-content/uploads/2022/01/ATA-Logo-BW.jpg
END:VEVENT
BEGIN:VEVENT
DTSTART;TZID=UTC:20221101T180000
DTEND;TZID=UTC:20221101T200000
DTSTAMP:20260424T052616
CREATED:20220127T022857Z
LAST-MODIFIED:20220915T001556Z
UID:285-1667325600-1667332800@abilenetennis.org
SUMMARY:ATA Board Meeting (November)
DESCRIPTION:
URL:https://abilenetennis.org/event/ata-board-meeting-november/
LOCATION:Abilene Country Club (ACC)\, 4039 S Treadaway Blvd\, Abilene\, TX\, 79602\, United States
CATEGORIES:ATA Board Meeting
END:VEVENT
BEGIN:VEVENT
DTSTART;TZID=UTC:20220913T180000
DTEND;TZID=UTC:20220913T200000
DTSTAMP:20260424T052616
CREATED:20220127T022703Z
LAST-MODIFIED:20220914T001913Z
UID:281-1663092000-1663099200@abilenetennis.org
SUMMARY:ATA Board Meeting (September)
DESCRIPTION:
URL:https://abilenetennis.org/event/ata-board-meeting-september/
LOCATION:Abilene Country Club (ACC)\, 4039 S Treadaway Blvd\, Abilene\, TX\, 79602\, United States
CATEGORIES:ATA Board Meeting
ATTACH;FMTTYPE=image/jpeg:https://abilenetennis.org/wp-content/uploads/2022/01/ATA-Logo-BW.jpg
END:VEVENT
BEGIN:VEVENT
DTSTART;TZID=UTC:20220816T180000
DTEND;TZID=UTC:20220816T200000
DTSTAMP:20260424T052616
CREATED:20220127T022600Z
LAST-MODIFIED:20220127T022600Z
UID:279-1660672800-1660680000@abilenetennis.org
SUMMARY:ATA Board Meeting (August)
DESCRIPTION:
URL:https://abilenetennis.org/event/ata-board-meeting-august/
LOCATION:Abilene Country Club (ACC)\, 4039 S Treadaway Blvd\, Abilene\, TX\, 79602\, United States
CATEGORIES:ATA Board Meeting
ATTACH;FMTTYPE=image/jpeg:https://abilenetennis.org/wp-content/uploads/2022/01/ATA-Logo-BW.jpg
END:VEVENT
BEGIN:VEVENT
DTSTART;TZID=UTC:20220719T080000
DTEND;TZID=UTC:20220719T170000
DTSTAMP:20260424T052616
CREATED:20220127T022440Z
LAST-MODIFIED:20220127T022440Z
UID:277-1658217600-1658250000@abilenetennis.org
SUMMARY:ATA Board Meeting (July)
DESCRIPTION:
URL:https://abilenetennis.org/event/ata-board-meeting-july/
LOCATION:Abilene Country Club (ACC)\, 4039 S Treadaway Blvd\, Abilene\, TX\, 79602\, United States
CATEGORIES:ATA Board Meeting
END:VEVENT
BEGIN:VEVENT
DTSTART;TZID=UTC:20220621T180000
DTEND;TZID=UTC:20220621T200000
DTSTAMP:20260424T052616
CREATED:20220127T022402Z
LAST-MODIFIED:20220127T022402Z
UID:275-1655834400-1655841600@abilenetennis.org
SUMMARY:ATA Board Meeting (June)
DESCRIPTION:
URL:https://abilenetennis.org/event/ata-board-meeting-june/
LOCATION:Abilene Country Club (ACC)\, 4039 S Treadaway Blvd\, Abilene\, TX\, 79602\, United States
CATEGORIES:ATA Board Meeting
ATTACH;FMTTYPE=image/jpeg:https://abilenetennis.org/wp-content/uploads/2022/01/ATA-Logo-BW.jpg
END:VEVENT
BEGIN:VEVENT
DTSTART;TZID=UTC:20220517T180000
DTEND;TZID=UTC:20220517T200000
DTSTAMP:20260424T052616
CREATED:20220127T022308Z
LAST-MODIFIED:20220127T022308Z
UID:273-1652810400-1652817600@abilenetennis.org
SUMMARY:ATA Board Meeting (May)
DESCRIPTION:
URL:https://abilenetennis.org/event/ata-board-meeting-may/
LOCATION:Abilene Country Club (ACC)\, 4039 S Treadaway Blvd\, Abilene\, TX\, 79602\, United States
CATEGORIES:ATA Board Meeting
ATTACH;FMTTYPE=image/jpeg:https://abilenetennis.org/wp-content/uploads/2022/01/ATA-Logo-BW.jpg
END:VEVENT
BEGIN:VEVENT
DTSTART;TZID=UTC:20220419T180000
DTEND;TZID=UTC:20220419T200000
DTSTAMP:20260424T052616
CREATED:20220127T022155Z
LAST-MODIFIED:20220127T022155Z
UID:271-1650391200-1650398400@abilenetennis.org
SUMMARY:ATA Board Meeting (April)
DESCRIPTION:Monthly\, open to the community\, Board meeting.
URL:https://abilenetennis.org/event/ata-board-meeting-april/
LOCATION:Abilene Country Club (ACC)\, 4039 S Treadaway Blvd\, Abilene\, TX\, 79602\, United States
CATEGORIES:ATA Board Meeting
ATTACH;FMTTYPE=image/jpeg:https://abilenetennis.org/wp-content/uploads/2022/01/ATA-Logo-BW.jpg
END:VEVENT
BEGIN:VEVENT
DTSTART;TZID=UTC:20220315T180000
DTEND;TZID=UTC:20220315T200000
DTSTAMP:20260424T052616
CREATED:20220127T022011Z
LAST-MODIFIED:20220127T022011Z
UID:269-1647367200-1647374400@abilenetennis.org
SUMMARY:ATA Board Meeting (March)
DESCRIPTION:Monthly\, open to the community\, Board meeting.
URL:https://abilenetennis.org/event/ata-board-meeting-march/
LOCATION:Abilene Country Club (ACC)\, 4039 S Treadaway Blvd\, Abilene\, TX\, 79602\, United States
CATEGORIES:ATA Board Meeting
ATTACH;FMTTYPE=image/jpeg:https://abilenetennis.org/wp-content/uploads/2022/01/ATA-Logo-BW.jpg
END:VEVENT
BEGIN:VEVENT
DTSTART;TZID=UTC:20220215T180000
DTEND;TZID=UTC:20220215T200000
DTSTAMP:20260424T052616
CREATED:20220116T190502Z
LAST-MODIFIED:20220116T190502Z
UID:56-1644948000-1644955200@abilenetennis.org
SUMMARY:ATA Board Meeting (February)
DESCRIPTION:Monthly\, open to the community\, Board meeting.
URL:https://abilenetennis.org/event/ata-board-meeting-february/
LOCATION:Abilene Country Club (ACC)\, 4039 S Treadaway Blvd\, Abilene\, TX\, 79602\, United States
CATEGORIES:ATA Board Meeting
ATTACH;FMTTYPE=image/jpeg:https://abilenetennis.org/wp-content/uploads/2022/01/ATA-Logo-BW.jpg
END:VEVENT
BEGIN:VEVENT
DTSTART;TZID=UTC:20220116T140000
DTEND;TZID=UTC:20220116T180000
DTSTAMP:20260424T052616
CREATED:20220116T185135Z
LAST-MODIFIED:20220116T185135Z
UID:50-1642341600-1642356000@abilenetennis.org
SUMMARY:ATA Planning Meeting
DESCRIPTION:This closed Board meeting is for ATA to review schedules\, news\, financials\, and other pertinent planning details for the new year.
URL:https://abilenetennis.org/event/ata-planning-meeting/
LOCATION:TX
CATEGORIES:ATA Board Meeting
ATTACH;FMTTYPE=image/jpeg:https://abilenetennis.org/wp-content/uploads/2022/01/ATA-Logo-BW.jpg
END:VEVENT
END:VCALENDAR