BEGIN:VCALENDAR
VERSION:2.0
PRODID:-//Abilene Tennis Association (ATA) - ECPv6.15.20//NONSGML v1.0//EN
CALSCALE:GREGORIAN
METHOD:PUBLISH
X-WR-CALNAME:Abilene Tennis Association (ATA)
X-ORIGINAL-URL:https://abilenetennis.org
X-WR-CALDESC:Events for Abilene Tennis Association (ATA)
REFRESH-INTERVAL;VALUE=DURATION:PT1H
X-Robots-Tag:noindex
X-PUBLISHED-TTL:PT1H
BEGIN:VTIMEZONE
TZID:UTC
BEGIN:STANDARD
TZOFFSETFROM:+0000
TZOFFSETTO:+0000
TZNAME:UTC
DTSTART:20250101T000000
END:STANDARD
END:VTIMEZONE
BEGIN:VEVENT
DTSTART;VALUE=DATE:20260502
DTEND;VALUE=DATE:20260504
DTSTAMP:20260423T130904
CREATED:20260114T031326Z
LAST-MODIFIED:20260114T031326Z
UID:1285-1777680000-1777852799@abilenetennis.org
SUMMARY:2026 May UTR - Singles & Doubles ***VERIFIED***
DESCRIPTION:Calling all doubles and singles players Abilene’s May UTR is here!! \n– Singles will be played on Saturday\n– Doubles will be played on Sunday \nExtenuating Circumstances & Match Times \nConcerning extenuating situations for time-slots/match times\, it is the obligation of each player to ensure they are available for their matches as assigned by the Tournament Director (TD). Requests to have alternate match times will be reviewed and honored at the TD’s discretion based on the tournament schedule and other factors they deem appropriate. \n– Parents & Players – \nWhat a great day for playing tennis. Thank you for participating in our Singles and Doubles matches! \nThe ATA would like remind all players\, parents\, family members\, friends etc. there is absolutely NO COACHING\, NEGATIVE YELLING\, OR CALLING OF LINES OR SCORES. \nAny violation of this etiquette by either a player\, parent\, family member\, friend\, etc. the individual(s) will be asked to leave the match immediately. If a second incident occurs the player will not be allowed to participate in the next UTR. \nATA UTR Player/Spectator/Parent Guide & Rules \n  \nThank you as always for participating in the ATA’s UTRs and exhibiting professionalism both on & off the court. \n– Abilene Tennis Association (ATA)
URL:https://abilenetennis.org/event/2026-may-utr-singles-doubles-verified/
LOCATION:Rose Park Tennis Center\, 810 Portland Ave\, Abilene\, TX\, 79605\, United States
CATEGORIES:UTR Tournament
ATTACH;FMTTYPE=image/png:https://abilenetennis.org/wp-content/uploads/2025/01/images.png
END:VEVENT
BEGIN:VEVENT
DTSTART;VALUE=DATE:20260530
DTEND;VALUE=DATE:20260601
DTSTAMP:20260423T130904
CREATED:20260114T042253Z
LAST-MODIFIED:20260114T043221Z
UID:1311-1780099200-1780271999@abilenetennis.org
SUMMARY:2026 USTA Level 6: SAPA | Singles Only - Boys’ and Girls’ 12-18
DESCRIPTION:
URL:https://abilenetennis.org/event/2026-usta-level-6-sapa-singles-only-boys-and-girls-12-18/
LOCATION:Bentwood Country Club\, 2021 Clubhouse Lane\, San Angelo\, TX\, 76904\, United States
CATEGORIES:Local Tournament
ATTACH;FMTTYPE=image/png:https://abilenetennis.org/wp-content/uploads/2025/01/club-logo.png
ORGANIZER;CN="Bentwood Country Club":MAILTO:bentwoodtennis@cs.com
END:VEVENT
BEGIN:VEVENT
DTSTART;VALUE=DATE:20260530
DTEND;VALUE=DATE:20260601
DTSTAMP:20260423T130904
CREATED:20260114T042344Z
LAST-MODIFIED:20260114T043228Z
UID:1313-1780099200-1780271999@abilenetennis.org
SUMMARY:2026 USTA USTA Junior Circuit: SAPA | Singles Only - Boys’ and Girls 10 Orange/Green
DESCRIPTION:
URL:https://abilenetennis.org/event/2026-usta-usta-junior-circuit-sapa-singles-only-boys-and-girls-10-orange-green/
LOCATION:Bentwood Country Club\, 2021 Clubhouse Lane\, San Angelo\, TX\, 76904\, United States
CATEGORIES:Local Tournament
ATTACH;FMTTYPE=image/png:https://abilenetennis.org/wp-content/uploads/2025/01/club-logo.png
ORGANIZER;CN="Bentwood Country Club":MAILTO:bentwoodtennis@cs.com
END:VEVENT
BEGIN:VEVENT
DTSTART;VALUE=DATE:20260606
DTEND;VALUE=DATE:20260608
DTSTAMP:20260423T130904
CREATED:20260114T031635Z
LAST-MODIFIED:20260114T031635Z
UID:1287-1780704000-1780876799@abilenetennis.org
SUMMARY:2026 USTA Level 5 Open: Rose Park Tennis Center | Singles and Doubles - Boys’ and Girls’ 12-18
DESCRIPTION:WELCOME TO THIS LEVEL 5 OPEN (NW & S) USTA TEXAS TOURNAMENT!\nWe’re excited to have you here—let’s make it an unforgettable event with great matches\, sportsmanship\, and new friendships. Play hard and enjoy every moment! \nFor guidelines on acceptable and expected behavior\, please follow these links:\n FOR PLAYERS       FOR PARENTS/SPECTATORS \nFriendly reminder: We are a no-exception section\, meaning that late entries are strictly not considered or accepted\, regardless of the circumstances. \nWe value your experience and want to ensure it meets your expectations. If you encountered any issues\, please follow the link to report them. Your feedback helps us improve and enhance the experience for everyone. Thank you!  LINK TO FORMS \nFOLLOW THIS LINK FOR TOURNAMENT DETAILS AND INFORMATION
URL:https://abilenetennis.org/event/2026-usta-level-5-open-rose-park-tennis-center-singles-and-doubles-boys-and-girls-12-18/
LOCATION:Rose Park Tennis Center\, 810 Portland Ave\, Abilene\, TX\, 79605\, United States
ATTACH;FMTTYPE=image/png:https://abilenetennis.org/wp-content/uploads/2023/10/usta_tournaments_logo_png.png
ORGANIZER;CN="Rose Park Tennis Center":MAILTO:cwoodstpro@msn.com
END:VEVENT
BEGIN:VEVENT
DTSTART;VALUE=DATE:20260613
DTEND;VALUE=DATE:20260615
DTSTAMP:20260423T130904
CREATED:20260114T042532Z
LAST-MODIFIED:20260114T043235Z
UID:1315-1781308800-1781481599@abilenetennis.org
SUMMARY:2026 San Angelo Summer Slam UTR
DESCRIPTION:
URL:https://abilenetennis.org/event/2026-san-angelo-summer-slam-utr/
LOCATION:Bentwood Country Club\, 2021 Clubhouse Lane\, San Angelo\, TX\, 76904\, United States
CATEGORIES:Local Tournament
ATTACH;FMTTYPE=image/png:https://abilenetennis.org/wp-content/uploads/2025/01/club-logo.png
ORGANIZER;CN="Bentwood Country Club":MAILTO:bentwoodtennis@cs.com
END:VEVENT
BEGIN:VEVENT
DTSTART;VALUE=DATE:20260627
DTEND;VALUE=DATE:20260629
DTSTAMP:20260423T130904
CREATED:20260114T032118Z
LAST-MODIFIED:20260114T032118Z
UID:1289-1782518400-1782691199@abilenetennis.org
SUMMARY:2026 June UTR - Singles & Doubles ***VERIFIED***
DESCRIPTION:Calling all doubles and singles players Abilene’s June verified-UTR is here!! \n– Singles will be played on Saturday\n– Doubles will be played on Sunday \nAdditionally\, ATA is partnering with Adventure Cove water park! Each UTR player will receive 3 admission tickets\, free of charge\, to attend Adventure Cove on Saturday night from 7:30pm-9:30pm. You will receive your Adventure Cove tickets when you check in for the UTR. \nExtenuating Circumstances & Match Times: \nConcerning extenuating situations for time-slots/match times\, it is the obligation of each player to ensure they are available for their matches as assigned by the Tournament Director (TD). Requests to have alternate match times will be reviewed and honored at the TD’s discretion based on the tournament schedule and other factors they deem appropriate. \n– Parents & Players – \nWhat a great day for playing tennis. Thank you for participating in our Singles and Doubles matches! \nThe ATA would like remind all players\, parents\, family members\, friends etc. there is absolutely NO COACHING\, NEGATIVE YELLING\, OR CALLING OF LINES OR SCORES. \nAny violation of this etiquette by either a player\, parent\, family member\, friend\, etc. the individual(s) will be asked to leave the match immediately. If a second incident occurs the player will not be allowed to participate in the next UTR. \nATA UTR Player/Spectator/Parent Guide & Rules\nhttps://abilenetennis.org/wp-content/uploads/2023/10/Tournament-Parent-rules-info-Signs.pdf \nThank you as always for participating in the ATA’s UTRs and exhibiting professionalism both on & off the court. \n– Abilene Tennis Association (ATA)
URL:https://abilenetennis.org/event/2026-june-utr-singles-doubles-verified/
LOCATION:Rose Park Tennis Center\, 810 Portland Ave\, Abilene\, TX\, 79605\, United States
CATEGORIES:UTR Tournament
ATTACH;FMTTYPE=image/png:https://abilenetennis.org/wp-content/uploads/2025/01/images.png
ORGANIZER;CN="Rose Park Tennis Center":MAILTO:cwoodstpro@msn.com
END:VEVENT
BEGIN:VEVENT
DTSTART;VALUE=DATE:20260718
DTEND;VALUE=DATE:20260720
DTSTAMP:20260423T130904
CREATED:20260114T032344Z
LAST-MODIFIED:20260114T034922Z
UID:1291-1784332800-1784505599@abilenetennis.org
SUMMARY:2026 USTA Junior Circuit: Rose Park Tennis Center | Singles Only - Boys' and Girls' 10 Orange/Green
DESCRIPTION:WELCOME TO THIS JUNIOR CIRCUIT (10 & Under)  USTA TEXAS TOURNAMENT!\nWe’re excited to have you here—let’s make it an unforgettable event with great matches\, sportsmanship\, and new friendships. Play hard and enjoy every moment! \nFor guidelines on acceptable and expected behavior\, please follow these links:\n FOR PLAYERS       FOR PARENTS/SPECTATORS \nFriendly reminder: We are a no-exception section\, meaning that late entries are strictly not considered or accepted\, regardless of the circumstances. \nWe value your experience and want to ensure it meets your expectations. If you encountered any issues\, please follow the link to report them. Your feedback helps us improve and enhance the experience for everyone. Thank you!  LINK TO FORMS \nFOLLOW THIS LINK FOR TOURNAMENT DETAILS AND INFORMATION 
URL:https://abilenetennis.org/event/2026-usta-junior-circuit-rose-park-tennis-center-singles-only-boys-and-girls-10-orange-green-2/
LOCATION:Rose Park Tennis Center\, 810 Portland Ave\, Abilene\, TX\, 79605\, United States
CATEGORIES:USTA Event
ATTACH;FMTTYPE=image/png:https://abilenetennis.org/wp-content/uploads/2023/10/usta_tournaments_logo_png.png
ORGANIZER;CN="Rose Park Tennis Center":MAILTO:cwoodstpro@msn.com
END:VEVENT
BEGIN:VEVENT
DTSTART;VALUE=DATE:20260718
DTEND;VALUE=DATE:20260720
DTSTAMP:20260423T130904
CREATED:20260114T032520Z
LAST-MODIFIED:20260114T035000Z
UID:1293-1784332800-1784505599@abilenetennis.org
SUMMARY:2026 USTA Level 6: Rose Park Tennis Center | Singles Only - Boys' and Girls' 12-18
DESCRIPTION:WELCOME TO THIS LEVEL 6 OPEN USTA TEXAS TOURNAMENT!\nWe’re excited to have you here—let’s make it an unforgettable event with great matches\, sportsmanship\, and new friendships. Play hard and enjoy every moment! \nFor guidelines on acceptable and expected behavior\, please follow these links:\n FOR PLAYERS       FOR PARENTS/SPECTATORS \nFriendly reminder: We are a no-exception section\, meaning that late entries are strictly not considered or accepted\, regardless of the circumstances. \nWe value your experience and want to ensure it meets your expectations. If you encountered any issues\, please follow the link to report them. Your feedback helps us improve and enhance the experience for everyone. Thank you!  LINK TO FORMS \nFOLLOW THIS LINK FOR TOURNAMENT DETAILS AND INFORMATION
URL:https://abilenetennis.org/event/2026-usta-level-6-rose-park-tennis-center-singles-only-boys-and-girls-12-18-2/
LOCATION:Rose Park Tennis Center\, 810 Portland Ave\, Abilene\, TX\, 79605\, United States
CATEGORIES:USTA Event
ATTACH;FMTTYPE=image/png:https://abilenetennis.org/wp-content/uploads/2023/10/usta_tournaments_logo_png.png
ORGANIZER;CN="Rose Park Tennis Center":MAILTO:cwoodstpro@msn.com
END:VEVENT
BEGIN:VEVENT
DTSTART;VALUE=DATE:20260718
DTEND;VALUE=DATE:20260719
DTSTAMP:20260423T130904
CREATED:20260114T042648Z
LAST-MODIFIED:20260114T043213Z
UID:1317-1784332800-1784419199@abilenetennis.org
SUMMARY:2026 USTA Level 7: SAPA | Singles Only - Boys’ and Girls’ 12-18 Green/Yellow
DESCRIPTION:
URL:https://abilenetennis.org/event/2026-usta-level-7-sapa-singles-only-boys-and-girls-12-18-green-yellow-2/
LOCATION:Bentwood Country Club\, 2021 Clubhouse Lane\, San Angelo\, TX\, 76904\, United States
CATEGORIES:USTA Event
ATTACH;FMTTYPE=image/png:https://abilenetennis.org/wp-content/uploads/2025/01/club-logo.png
ORGANIZER;CN="Bentwood Country Club":MAILTO:bentwoodtennis@cs.com
END:VEVENT
BEGIN:VEVENT
DTSTART;VALUE=DATE:20260718
DTEND;VALUE=DATE:20260719
DTSTAMP:20260423T130904
CREATED:20260114T042749Z
LAST-MODIFIED:20260114T043206Z
UID:1319-1784332800-1784419199@abilenetennis.org
SUMMARY:2026 USTA USTA Junior Circuit: SAPA | Singles Only - Boys’ and Girls 10 Orange/Green
DESCRIPTION:
URL:https://abilenetennis.org/event/2026-usta-usta-junior-circuit-sapa-singles-only-boys-and-girls-10-orange-green-2/
LOCATION:Bentwood Country Club\, 2021 Clubhouse Lane\, San Angelo\, TX\, 76904\, United States
CATEGORIES:Local Tournament
ATTACH;FMTTYPE=image/png:https://abilenetennis.org/wp-content/uploads/2025/01/club-logo.png
ORGANIZER;CN="Bentwood Country Club":MAILTO:bentwoodtennis@cs.com
END:VEVENT
BEGIN:VEVENT
DTSTART;VALUE=DATE:20260724
DTEND;VALUE=DATE:20260726
DTSTAMP:20260423T130904
CREATED:20260114T033505Z
LAST-MODIFIED:20260114T034835Z
UID:1295-1784851200-1785023999@abilenetennis.org
SUMMARY:2026 Wylie High School UTR - Singles & Doubles
DESCRIPTION:*** REGISTRATION LINK TBD *** \nWylie High School will be hosting a UTR tournament July 24th & 25th! Be on the lookout for more details as we draw closer to the event!
URL:https://abilenetennis.org/event/2026-wylie-high-school-utr-singles-doubles/
LOCATION:TX
CATEGORIES:UTR Tournament
ATTACH;FMTTYPE=image/png:https://abilenetennis.org/wp-content/uploads/2025/01/images.png
END:VEVENT
BEGIN:VEVENT
DTSTART;VALUE=DATE:20260822
DTEND;VALUE=DATE:20260824
DTSTAMP:20260423T130904
CREATED:20260114T042909Z
LAST-MODIFIED:20260114T043157Z
UID:1321-1787356800-1787529599@abilenetennis.org
SUMMARY:2026 USTA Level 6: SAPA | Singles Only - Boys' and Girls' 12-18
DESCRIPTION:
URL:https://abilenetennis.org/event/2026-usta-level-6-sapa-singles-only-boys-and-girls-12-18-2/
LOCATION:Bentwood Country Club\, 2021 Clubhouse Lane\, San Angelo\, TX\, 76904\, United States
CATEGORIES:Local Tournament
ATTACH;FMTTYPE=image/png:https://abilenetennis.org/wp-content/uploads/2025/01/club-logo.png
ORGANIZER;CN="Bentwood Country Club":MAILTO:bentwoodtennis@cs.com
END:VEVENT
BEGIN:VEVENT
DTSTART;VALUE=DATE:20260822
DTEND;VALUE=DATE:20260824
DTSTAMP:20260423T130904
CREATED:20260114T042959Z
LAST-MODIFIED:20260114T043150Z
UID:1323-1787356800-1787529599@abilenetennis.org
SUMMARY:2026 USTA USTA Junior Circuit: SAPA | Singles Only - Boys' and Girls' 10 Orange/Green
DESCRIPTION:
URL:https://abilenetennis.org/event/2026-usta-usta-junior-circuit-sapa-singles-only-boys-and-girls-10-orange-green-3/
LOCATION:Bentwood Country Club\, 2021 Clubhouse Lane\, San Angelo\, TX\, 76904\, United States
CATEGORIES:Local Tournament
ATTACH;FMTTYPE=image/png:https://abilenetennis.org/wp-content/uploads/2025/01/club-logo.png
ORGANIZER;CN="Bentwood Country Club":MAILTO:bentwoodtennis@cs.com
END:VEVENT
BEGIN:VEVENT
DTSTART;VALUE=DATE:20260905
DTEND;VALUE=DATE:20260907
DTSTAMP:20260423T130904
CREATED:20260114T033951Z
LAST-MODIFIED:20260114T033951Z
UID:1297-1788566400-1788739199@abilenetennis.org
SUMMARY:2026 USTA Level 7: Rose Park Tennis Center | Singles Only - Boys' and Girls' 12-18 Green/Yellow
DESCRIPTION:WELCOME TO THIS LEVEL 7 USTA TEXAS TOURNAMENT!\nWe’re excited to have you here—let’s make it an unforgettable event with great matches\, sportsmanship\, and new friendships. Play hard and enjoy every moment! \nFor guidelines on acceptable and expected behavior\, please follow these links:\n FOR PLAYERS       FOR PARENTS/SPECTATORS \nFriendly reminder: We are a no-exception section\, meaning that late entries are strictly not considered or accepted\, regardless of the circumstances. \nWe value your experience and want to ensure it meets your expectations. If you encountered any issues\, please follow the link to report them. Your feedback helps us improve and enhance the experience for everyone. Thank you!  LINK TO FORMS \nFOLLOW THIS LINK FOR TOURNAMENT DETAILS AND INFORMATION
URL:https://abilenetennis.org/event/2026-usta-level-7-rose-park-tennis-center-singles-only-boys-and-girls-12-18-green-yellow/
LOCATION:Rose Park Tennis Center\, 810 Portland Ave\, Abilene\, TX\, 79605\, United States
CATEGORIES:USTA Event
ATTACH;FMTTYPE=image/png:https://abilenetennis.org/wp-content/uploads/2023/10/usta_tournaments_logo_png.png
ORGANIZER;CN="Rose Park Tennis Center":MAILTO:cwoodstpro@msn.com
END:VEVENT
BEGIN:VEVENT
DTSTART;VALUE=DATE:20261003
DTEND;VALUE=DATE:20261004
DTSTAMP:20260423T130904
CREATED:20260114T034332Z
LAST-MODIFIED:20260114T035036Z
UID:1301-1790985600-1791071999@abilenetennis.org
SUMMARY:2026 USTA USTA Junior Circuit: Rose Park Tennis Center | Singles Only - Boys' and Girls' 10 Orange/Green
DESCRIPTION:WELCOME TO THIS JUNIOR CIRCUIT (10 & Under)  USTA TEXAS TOURNAMENT!\nWe’re excited to have you here—let’s make it an unforgettable event with great matches\, sportsmanship\, and new friendships. Play hard and enjoy every moment! \nFor guidelines on acceptable and expected behavior\, please follow these links:\n FOR PLAYERS       FOR PARENTS/SPECTATORS \nFriendly reminder: We are a no-exception section\, meaning that late entries are strictly not considered or accepted\, regardless of the circumstances. \nWe value your experience and want to ensure it meets your expectations. If you encountered any issues\, please follow the link to report them. Your feedback helps us improve and enhance the experience for everyone. Thank you!  LINK TO FORMS \nFOLLOW THIS LINK FOR TOURNAMENT DETAILS AND INFORMATION 
URL:https://abilenetennis.org/event/2026-usta-usta-junior-circuit-rose-park-tennis-center-singles-only-boys-and-girls-10-orange-green/
LOCATION:Rose Park Tennis Center\, 810 Portland Ave\, Abilene\, TX\, 79605\, United States
CATEGORIES:USTA Event
ATTACH;FMTTYPE=image/png:https://abilenetennis.org/wp-content/uploads/2023/10/usta_tournaments_logo_png.png
ORGANIZER;CN="Rose Park Tennis Center":MAILTO:cwoodstpro@msn.com
END:VEVENT
BEGIN:VEVENT
DTSTART;VALUE=DATE:20261003
DTEND;VALUE=DATE:20261004
DTSTAMP:20260423T130904
CREATED:20260114T034158Z
LAST-MODIFIED:20260114T034158Z
UID:1299-1790985600-1791071999@abilenetennis.org
SUMMARY:2026 USTA Level 7: Rose Park Tennis Center | Singles Only - Boys' and Girls' 12-18 Green/Yellow
DESCRIPTION:WELCOME TO THIS LEVEL 7 USTA TEXAS TOURNAMENT!\nWe’re excited to have you here—let’s make it an unforgettable event with great matches\, sportsmanship\, and new friendships. Play hard and enjoy every moment! \nFor guidelines on acceptable and expected behavior\, please follow these links:\n FOR PLAYERS       FOR PARENTS/SPECTATORS \nFriendly reminder: We are a no-exception section\, meaning that late entries are strictly not considered or accepted\, regardless of the circumstances. \nWe value your experience and want to ensure it meets your expectations. If you encountered any issues\, please follow the link to report them. Your feedback helps us improve and enhance the experience for everyone. Thank you!  LINK TO FORMS \nFOLLOW THIS LINK FOR TOURNAMENT DETAILS AND INFORMATION
URL:https://abilenetennis.org/event/2026-usta-level-7-rose-park-tennis-center-singles-only-boys-and-girls-12-18-green-yellow-2/
LOCATION:Rose Park Tennis Center\, 810 Portland Ave\, Abilene\, TX\, 79605\, United States
CATEGORIES:USTA Event
ATTACH;FMTTYPE=image/png:https://abilenetennis.org/wp-content/uploads/2023/10/usta_tournaments_logo_png.png
ORGANIZER;CN="Rose Park Tennis Center":MAILTO:cwoodstpro@msn.com
END:VEVENT
BEGIN:VEVENT
DTSTART;VALUE=DATE:20261003
DTEND;VALUE=DATE:20261005
DTSTAMP:20260423T130904
CREATED:20260114T043108Z
LAST-MODIFIED:20260114T043143Z
UID:1325-1790985600-1791158399@abilenetennis.org
SUMMARY:2026 USTA Level 5 Open: SAPA | Singles and Doubles - Boys’ and Girls’ 12-18
DESCRIPTION:
URL:https://abilenetennis.org/event/2026-usta-level-5-open-sapa-singles-and-doubles-boys-and-girls-12-18/
LOCATION:Bentwood Country Club\, 2021 Clubhouse Lane\, San Angelo\, TX\, 76904\, United States
CATEGORIES:Local Tournament
ATTACH;FMTTYPE=image/png:https://abilenetennis.org/wp-content/uploads/2025/01/club-logo.png
ORGANIZER;CN="Bentwood Country Club":MAILTO:bentwoodtennis@cs.com
END:VEVENT
BEGIN:VEVENT
DTSTART;VALUE=DATE:20261114
DTEND;VALUE=DATE:20261116
DTSTAMP:20260423T130904
CREATED:20260114T034454Z
LAST-MODIFIED:20260114T034517Z
UID:1303-1794614400-1794787199@abilenetennis.org
SUMMARY:2026 USTA Level 6: Rose Park Tennis Center | Singles Only - Boys' and Girls' 12-18
DESCRIPTION:WELCOME TO THIS LEVEL 6 OPEN USTA TEXAS TOURNAMENT!\nWe’re excited to have you here—let’s make it an unforgettable event with great matches\, sportsmanship\, and new friendships. Play hard and enjoy every moment! \nFor guidelines on acceptable and expected behavior\, please follow these links:\n FOR PLAYERS       FOR PARENTS/SPECTATORS \nFriendly reminder: We are a no-exception section\, meaning that late entries are strictly not considered or accepted\, regardless of the circumstances. \nWe value your experience and want to ensure it meets your expectations. If you encountered any issues\, please follow the link to report them. Your feedback helps us improve and enhance the experience for everyone. Thank you!  LINK TO FORMS \nFOLLOW THIS LINK FOR TOURNAMENT DETAILS AND INFORMATION
URL:https://abilenetennis.org/event/2026-usta-level-6-rose-park-tennis-center-singles-only-boys-and-girls-12-18-3/
LOCATION:Rose Park Tennis Center\, 810 Portland Ave\, Abilene\, TX\, 79605\, United States
CATEGORIES:USTA Event
ATTACH;FMTTYPE=image/png:https://abilenetennis.org/wp-content/uploads/2023/10/usta_tournaments_logo_png.png
ORGANIZER;CN="Rose Park Tennis Center":MAILTO:cwoodstpro@msn.com
END:VEVENT
BEGIN:VEVENT
DTSTART;VALUE=DATE:20261121
DTEND;VALUE=DATE:20261123
DTSTAMP:20260423T130904
CREATED:20260114T043340Z
LAST-MODIFIED:20260114T043340Z
UID:1327-1795219200-1795391999@abilenetennis.org
SUMMARY:2026 San Angelo Thanksgiving Bash UTR
DESCRIPTION:
URL:https://abilenetennis.org/event/2026-san-angelo-thanksgiving-bash-utr/
LOCATION:Bentwood Country Club\, 2021 Clubhouse Lane\, San Angelo\, TX\, 76904\, United States
CATEGORIES:UTR Tournament
ATTACH;FMTTYPE=image/png:https://abilenetennis.org/wp-content/uploads/2025/01/images.png
ORGANIZER;CN="Bentwood Country Club":MAILTO:bentwoodtennis@cs.com
END:VEVENT
END:VCALENDAR